BEGIN:VCALENDAR
VERSION:2.0
PRODID:-//saintdenisashburnham.org//eCatholic//EN
X-WR-TIMEZONE:LocalTZ
BEGIN:VTIMEZONE
TZID:LocalTZ
X-LIC-LOCATION:LocalTZ
BEGIN:DAYLIGHT
TZOFFSETFROM:-0500
TZOFFSETTO:-0400
TZNAME:LocalTZ
DTSTART:19700308T020000
RRULE:FREQ=YEARLY;BYMONTH=3;BYDAY=2SU
END:DAYLIGHT
BEGIN:STANDARD
TZOFFSETFROM:-0400
TZOFFSETTO:-0500
TZNAME:LocalTZ
DTSTART:19701101T020000
RRULE:FREQ=YEARLY;BYMONTH=11;BYDAY=1SU
END:STANDARD
END:VTIMEZONE
BEGIN:VEVENT
UID:683856@saintdenisashburnham.org
DTSTAMP:20260425T153839Z
DTSTART:20260501T190000
DTEND:20260501T200000
RRULE:FREQ=MONTHLY;BYDAY=FR;BYSETPOS=1
EXDATE:20180105T190000,20191101T190000,20200501T190000,20210101T190000,202
 10402T190000
SUMMARY:(Adoration)
DESCRIPTION:Please come and share some time with Christ our Lord. The time
  of peace and tranquility is good to help us track in life. We all need th
 at in this topsy turvy world we live.
END:VEVENT
BEGIN:VEVENT
UID:684496@saintdenisashburnham.org
DTSTAMP:20260425T153839Z
DTSTART:20260425T163000
DTEND:20260425T173000
RRULE:FREQ=WEEKLY;BYDAY=SA
EXDATE:20180331T163000,20190420T163000,20191228T163000,20200321T163000,202
 00328T163000,20200404T163000,20200418T163000,20200425T163000,20200502T1630
 00,20200516T163000,20200523T163000
SUMMARY:Holy Eucharist
END:VEVENT
BEGIN:VEVENT
UID:684506@saintdenisashburnham.org
DTSTAMP:20260425T153839Z
DTSTART:20260426T080000
DTEND:20260426T090000
RRULE:FREQ=WEEKLY;BYDAY=SU
EXDATE:20191229T080000,20200322T080000,20200329T080000,20200405T080000,202
 00419T080000,20200503T080000,20200517T080000,20200524T080000,20210404T0800
 00
SUMMARY:Holy Eucharist
END:VEVENT
BEGIN:VEVENT
UID:684507@saintdenisashburnham.org
DTSTAMP:20260425T153839Z
DTSTART:20260426T100000
DTEND:20260426T110000
RRULE:FREQ=WEEKLY;BYDAY=SU
EXDATE:20191229T100000,20200322T100000,20200329T100000,20200405T100000,202
 00419T100000,20200503T100000,20200517T100000,20200524T100000,20210404T1000
 00
SUMMARY:Holy Eucharist
END:VEVENT
BEGIN:VEVENT
UID:704201@saintdenisashburnham.org
DTSTAMP:20260425T153839Z
DTSTART:20260515T190000
DTEND:20260515T210000
RRULE:FREQ=MONTHLY;BYDAY=FR;BYSETPOS=3
EXDATE:20190419T190000,20200320T190000,20200417T190000,20200515T190000,202
 40920T190000
SUMMARY:Marriage Matters
DESCRIPTION:We meet to build relationships with others couples who share t
 he values of the Catholic Church.
END:VEVENT
BEGIN:VEVENT
UID:717027@saintdenisashburnham.org
DTSTAMP:20260425T153839Z
DTSTART:20260427T090000
DTEND:20260427T093000
RRULE:FREQ=WEEKLY;BYDAY=MO
EXDATE:20190527T090000,20191209T090000,20200210T090000,20200217T090000,202
 00224T090000,20200323T090000,20200330T090000,20200406T090000,20200420T0900
 00,20200427T090000,20200518T090000,20200720T090000
SUMMARY:Holy Eucharist
END:VEVENT
BEGIN:VEVENT
UID:717039@saintdenisashburnham.org
DTSTAMP:20260425T153839Z
DTSTART:20260428T090000
DTEND:20260428T093000
RRULE:FREQ=WEEKLY;BYDAY=TU
EXDATE:20180313T090000,20191231T090000,20200211T090000,20200218T090000,202
 00225T090000,20200317T090000,20200324T090000,20200331T090000,20200407T0900
 00,20200414T090000,20200421T090000,20200428T090000,20200519T090000,2020072
 1T090000,20241105T090000
SUMMARY:Holy Eucharist
END:VEVENT
BEGIN:VEVENT
UID:717040@saintdenisashburnham.org
DTSTAMP:20260425T153839Z
DTSTART:20260429T090000
DTEND:20260429T093000
RRULE:FREQ=WEEKLY;BYDAY=WE
EXDATE:20180214T090000,20180815T090000,20190306T090000,20200101T090000,202
 00212T090000,20200219T090000,20200226T090000,20200318T090000,20200325T0900
 00,20200401T090000,20200415T090000,20200422T090000,20200429T090000,2020052
 0T090000,20200722T090000,20210217T090000
SUMMARY:Holy Eucharist
END:VEVENT
BEGIN:VEVENT
UID:722507@saintdenisashburnham.org
DTSTAMP:20260425T153839Z
DTSTART:20260429T093000
DTEND:20260429T113000
RRULE:FREQ=WEEKLY;BYDAY=WE
EXDATE:20191225T093000,20200101T093000,20200318T093000,20200325T093000,202
 00401T093000,20200415T093000,20200422T093000,20200429T093000,20200520T0930
 00,20200527T093000,20200603T093000,20200610T093000,20200617T093000
SUMMARY:Ladies Spiritual Enrichment Group
END:VEVENT
BEGIN:VEVENT
UID:818580@saintdenisashburnham.org
DTSTAMP:20260425T153839Z
DTSTART:20260428T190000
DTEND:20260428T203000
RRULE:FREQ=MONTHLY;BYDAY=TU;BYSETPOS=4
EXDATE:20180925T190000,20181225T190000,20190122T190000,20190226T190000,201
 91224T190000,20200428T190000,20220222T190000,20220426T190000,20220628T1900
 00,20220823T190000,20221025T190000,20221227T190000
SUMMARY:KofC Meeting
DESCRIPTION:The Knights of Columbus is the world's largest Catholic frater
 nal service organization. Founded by Michael J. McGivney in New Haven\, Co
 nnecticut\, in 1882\, it was named in honor of the explorer Christopher Co
 lumbus.
END:VEVENT
BEGIN:VEVENT
UID:995718@saintdenisashburnham.org
DTSTAMP:20260425T153839Z
DTSTART:20260425T153000
DTEND:20260425T160000
RRULE:FREQ=WEEKLY;BYDAY=SA
EXDATE:20190420T153000,20200328T153000,20200404T153000,20200516T153000,202
 00523T153000,20200530T153000,20200606T153000
SUMMARY:Sacrament Of Reconciliation
DESCRIPTION:The Sacrament of Reconciliation is one of the most unique and 
 beautiful aspects of Catholicism. Jesus Christ\, in His abundant love and 
 mercy\, established the Sacrament of Confession\, so that we as sinners ca
 n obtain forgiveness for our sins and reconcile with God and the Church. T
 he sacrament “washes us clean\,” and renews us in Christ. “Jesus said to t
 hem again\, ‘Peace be with you. As the Father has sent me\, even so I send
  you.’ And when he had said this\, he breathed on them\, and said to them\
 , ‘Receive the Holy Spirit. If you forgive the sins of any\, they are forg
 iven\; if you retain the sins of any\, they are retained’” (John 20:21-23)
 .
END:VEVENT
BEGIN:VEVENT
UID:1008741@saintdenisashburnham.org
DTSTAMP:20260425T153839Z
DTSTART:20260512T190000
DTEND:20260512T210000
RRULE:FREQ=MONTHLY;BYDAY=TU;BYSETPOS=2
EXDATE:20190312T190000,20200414T190000,20220208T190000,20220412T190000,202
 20614T190000,20220809T190000,20221011T190000,20221213T190000
SUMMARY:KOC Planning Meeting
DESCRIPTION:Planning meeting for KOC Odd Months at St Denis Even Numbered 
 Months St Edward
END:VEVENT
END:VCALENDAR
